BEGIN:VCALENDAR
VERSION:2.0
PRODID:-//Sundown Mountain Resort - ECPv6.15.20//NONSGML v1.0//EN
CALSCALE:GREGORIAN
METHOD:PUBLISH
X-WR-CALNAME:Sundown Mountain Resort
X-ORIGINAL-URL:https://sundownmtn.com
X-WR-CALDESC:Events for Sundown Mountain Resort
REFRESH-INTERVAL;VALUE=DURATION:PT1H
X-Robots-Tag:noindex
X-PUBLISHED-TTL:PT1H
BEGIN:VTIMEZONE
TZID:America/Chicago
BEGIN:DAYLIGHT
TZOFFSETFROM:-0600
TZOFFSETTO:-0500
TZNAME:CDT
DTSTART:20240310T080000
END:DAYLIGHT
BEGIN:STANDARD
TZOFFSETFROM:-0500
TZOFFSETTO:-0600
TZNAME:CST
DTSTART:20241103T070000
END:STANDARD
BEGIN:DAYLIGHT
TZOFFSETFROM:-0600
TZOFFSETTO:-0500
TZNAME:CDT
DTSTART:20250309T080000
END:DAYLIGHT
BEGIN:STANDARD
TZOFFSETFROM:-0500
TZOFFSETTO:-0600
TZNAME:CST
DTSTART:20251102T070000
END:STANDARD
BEGIN:DAYLIGHT
TZOFFSETFROM:-0600
TZOFFSETTO:-0500
TZNAME:CDT
DTSTART:20260308T080000
END:DAYLIGHT
BEGIN:STANDARD
TZOFFSETFROM:-0500
TZOFFSETTO:-0600
TZNAME:CST
DTSTART:20261101T070000
END:STANDARD
END:VTIMEZONE
BEGIN:VEVENT
DTSTART;TZID=America/Chicago:20250201T080000
DTEND;TZID=America/Chicago:20250201T170000
DTSTAMP:20260422T074948
CREATED:20241227T174723Z
LAST-MODIFIED:20250120T221237Z
UID:80251-1738396800-1738429200@sundownmtn.com
SUMMARY:Iowa Winter Games 2025 | Alpine Ski Racing
DESCRIPTION:Registration Deadline \n\n\n\nEARLY REGISTRATION DEADLINE$30 Entry FeeMonday\, January 13\, 2025 \n\n\n\nFINAL REGISTRATION DEADLINE$35 Entry FeeMonday\, January 22\, 2025 \n\n\n\nRegister On-site\n\n\n\nOn-site entries will be accepted for $40. Pre-registration is preferred. \n\n\n\nSingle entry fee includes both Slalom and Giant Slalom; additional fee required for lift ticket and/or equipment rental (payments made onsite) \n\n\n\nLift Tickets: \n\n\n\n$46 + taxLift tickets can be purchased at the Mountain Center ticket window \n  \nSCHEDULE OF EVENTS\n8:00 – 9:00 AM – Registration \n9:00 AM – Slalom/Giant Slalom Course Inspection \n10:00 AM – Giant Slalom Begins \nOnce both runs for Giant Slalom are complete\, there will be a 20 minute break and then the 1st run of Slalom will begin. \nRun order is: \nU08 (racers under 8 years of age based on 12/31/2024) \nU10 (8-9 year olds) \nU12 (10-11 year olds) \nU14 (12-13 year olds) \nU16 (14-15 year olds) \nU18 (16-17 year olds) \nU20 (18-19 year olds) \nAges 20-25 \nAges 26-35 \nAges 36-45 \nAges 46-55 \nAges 56-65 \nOver 65 years old \nFemales and males will run at the same time throughout the Giant Slalom and the Slalom events. \n 
URL:https://sundownmtn.com/event/iowa-winter-games-2025-alpine-ski-racing/
CATEGORIES:RACING,Winter Events
ATTACH;FMTTYPE=image/png:https://sundownmtn.com/wp-content/uploads/2024/12/Screenshot-2025-01-20-at-4.11.02 PM.png
END:VEVENT
BEGIN:VEVENT
DTSTART;TZID=America/Chicago:20250201T130000
DTEND;TZID=America/Chicago:20250201T160000
DTSTAMP:20260422T074948
CREATED:20250120T221728Z
LAST-MODIFIED:20250120T221733Z
UID:80557-1738414800-1738425600@sundownmtn.com
SUMMARY:Andy's Air & Style Comp  |  2025 Sasquatch Series
DESCRIPTION:
URL:https://sundownmtn.com/event/andys-air-style-comp-2025-sasquatch-series/
CATEGORIES:Sasquatch Series,Winter Events
ATTACH;FMTTYPE=image/png:https://sundownmtn.com/wp-content/uploads/2022/11/Sundown_Parks_Logo_Vector_three_color_white_background-01.png
END:VEVENT
BEGIN:VEVENT
DTSTART;TZID=America/Chicago:20250201T150000
DTEND;TZID=America/Chicago:20250201T190000
DTSTAMP:20260422T074948
CREATED:20250120T211308Z
LAST-MODIFIED:20250120T215654Z
UID:80525-1738422000-1738436400@sundownmtn.com
SUMMARY:🎶Joe Valenti at Tips Up Bar + Grill
DESCRIPTION:Join us at Sundown Mountain Resort this season for an incredible weekend music series! Enjoy live performances every Friday\, Saturday\, and Sunday\, featuring talented local and regional musicians. Relax by the fire\, sip on your favorite drinks\, enjoy your favorite food\, and soak in the lively atmosphere and beautiful view of the North Lodge.Learn more about Joe Valenti Here!
URL:https://sundownmtn.com/event/%f0%9f%8e%b6-joe-valenti-at-tips-up/
CATEGORIES:Live Music,Winter Events
ATTACH;FMTTYPE=image/jpeg:https://sundownmtn.com/wp-content/uploads/2025/01/Joe-Valenti-.jpg
END:VEVENT
BEGIN:VEVENT
DTSTART;TZID=America/Chicago:20250202T010000
DTEND;TZID=America/Chicago:20250202T170000
DTSTAMP:20260422T074948
CREATED:20250120T211830Z
LAST-MODIFIED:20250120T215639Z
UID:80528-1738458000-1738515600@sundownmtn.com
SUMMARY:🎶 Shannon Woulfe at Tips Up Bar + Grill
DESCRIPTION:Join us at Sundown Mountain Resort this season for an incredible weekend music series! Enjoy live performances every Friday\, Saturday\, and Sunday\, featuring talented local and regional musicians. Relax by the fire\, sip on your favorite drinks\, enjoy your favorite food\, and soak in the lively atmosphere and beautiful view of the North Lodge.Learn more about Shannon Woulfe Here!
URL:https://sundownmtn.com/event/%f0%9f%8e%b6-shannon-woulfe-at-tips-up/
CATEGORIES:Live Music,Winter Events
ATTACH;FMTTYPE=image/jpeg:https://sundownmtn.com/wp-content/uploads/2025/01/Shannon-Woulfe-.jpg
END:VEVENT
BEGIN:VEVENT
DTSTART;TZID=America/Chicago:20250202T090000
DTEND;TZID=America/Chicago:20250202T200000
DTSTAMP:20260422T074948
CREATED:20241227T174913Z
LAST-MODIFIED:20250121T194152Z
UID:80252-1738486800-1738526400@sundownmtn.com
SUMMARY:Kid’s Day at Sundown Mountain Resort 2025
DESCRIPTION:Save the date for our Kid’s Day at Sundown Mountain Resort on Sunday\, February 2nd! Kids\, ages 11 & under\, enjoy 50% OFF lift tickets\, rental\, and group ski or snowboard lessons*! \n\n\n\n\n\nPlease use code KIDSDAY2025 at check out to receive a discount. \n\n\n\n*Reservations are limited. Not valid on semi-private or private lessons. \n 
URL:https://sundownmtn.com/event/kids-day-at-sundown-mountain-resort-2025/
CATEGORIES:SPECIALS,Winter Events
ATTACH;FMTTYPE=image/jpeg:https://sundownmtn.com/wp-content/uploads/2024/12/Sundown_Website-61.jpg
END:VEVENT
BEGIN:VEVENT
DTSTART;TZID=America/Chicago:20250207T160000
DTEND;TZID=America/Chicago:20250207T200000
DTSTAMP:20260422T074948
CREATED:20250120T212054Z
LAST-MODIFIED:20250120T212116Z
UID:80530-1738944000-1738958400@sundownmtn.com
SUMMARY:🎶 ERIC RICHARDS AT TIPS UP
DESCRIPTION:Join us at Sundown Mountain Resort this season for an incredible weekend music series! Enjoy live performances every Friday\, Saturday\, and Sunday\, featuring talented local and regional musicians. Relax by the fire\, sip on your delicious drinks\, enjoy your favorite food\, and soak in the lively atmosphere and beautiful view of the North Lodge.Learn more about Eric Richards Here!
URL:https://sundownmtn.com/event/%f0%9f%8e%b6-eric-richards-at-tips-up/
CATEGORIES:Live Music,Winter Events
ATTACH;FMTTYPE=image/jpeg:https://sundownmtn.com/wp-content/uploads/2025/01/Eric-Richards-.jpg
END:VEVENT
BEGIN:VEVENT
DTSTART;TZID=America/Chicago:20250208T130000
DTEND;TZID=America/Chicago:20250208T160000
DTSTAMP:20260422T074948
CREATED:20250120T221929Z
LAST-MODIFIED:20250120T221930Z
UID:80558-1739019600-1739030400@sundownmtn.com
SUMMARY:South Park Slopestyle  |  2025 Sasquatch Series
DESCRIPTION:
URL:https://sundownmtn.com/event/south-park-slopestyle-2025-sasquatch-series/
CATEGORIES:Sasquatch Series,Winter Events
ATTACH;FMTTYPE=image/png:https://sundownmtn.com/wp-content/uploads/2022/11/Sundown_Parks_Logo_Vector_three_color_white_background-01.png
END:VEVENT
BEGIN:VEVENT
DTSTART;TZID=America/Chicago:20250208T160000
DTEND;TZID=America/Chicago:20250208T190000
DTSTAMP:20260422T074948
CREATED:20250120T212503Z
LAST-MODIFIED:20250120T215620Z
UID:80532-1739030400-1739041200@sundownmtn.com
SUMMARY:🎶 Jimmy Welty Band at Tips Up Bar + Grill
DESCRIPTION:Join us at Sundown Mountain Resort this season for an incredible weekend music series! Enjoy live performances every Friday\, Saturday\, and Sunday\, featuring talented local and regional musicians. Relax by the fire\, sip on your delicious drinks\, enjoy your favorite food\, and soak in the lively atmosphere and beautiful view of the North Lodge.Learn more about the Jimmy Walty Band Here!
URL:https://sundownmtn.com/event/%f0%9f%8e%b6-jimmy-walty-band-at-tips-up/
CATEGORIES:Live Music,Winter Events
ATTACH;FMTTYPE=image/png:https://sundownmtn.com/wp-content/uploads/2025/01/JimmyWeltyBand-.png
END:VEVENT
BEGIN:VEVENT
DTSTART;TZID=America/Chicago:20250209T130000
DTEND;TZID=America/Chicago:20250209T170000
DTSTAMP:20260422T074948
CREATED:20250120T212806Z
LAST-MODIFIED:20250120T215559Z
UID:80535-1739106000-1739120400@sundownmtn.com
SUMMARY:🎶 Barefoot & Sunshine at Tips Up Bar + Grill
DESCRIPTION:Join us at Sundown Mountain Resort this season for an incredible weekend music series! Enjoy live performances every Friday\, Saturday\, and Sunday\, featuring talented local and regional musicians. Relax by the fire\, sip on your delicious drinks\, enjoy your favorite food\, and soak in the lively atmosphere and beautiful view of the North Lodge.Learn more about Barefoot & Sunshine Here.
URL:https://sundownmtn.com/event/%f0%9f%8e%b6-barefoot-sunshine-tips-up-bar-grill/
CATEGORIES:Live Music,Winter Events
ATTACH;FMTTYPE=image/jpeg:https://sundownmtn.com/wp-content/uploads/2025/01/BarefootSunshine-.jpg
END:VEVENT
BEGIN:VEVENT
DTSTART;TZID=America/Chicago:20250214T100000
DTEND;TZID=America/Chicago:20250214T230000
DTSTAMP:20260422T074948
CREATED:20250121T193718Z
LAST-MODIFIED:20250121T194154Z
UID:80576-1739527200-1739574000@sundownmtn.com
SUMMARY:D.A.R.E. SKI/SNOWBOARD DAY!
DESCRIPTION:Open to all D.A.R.E. (Drug Abuse Resistance Education) students and family members. Click HERE for details. \n\n\n\nWalk-in Registration: 4 PM- 6 PM \n\n\n\nCOST:PREREGISTRATION: Preregistration ends at 12 AM\, Wednesday\, February 12\, 2025.Lift | $30Lift\, Lesson & Ski Rental* | $35Lift\, Lesson & Snowboard Rental* | $40*Includes Helmet  \n\n\n\nWALK-IN RATELift | $35 Lift\, Lesson & Ski Rental | $40Lift\, Lesson & Snowboard Rental* | $45 \n\n\n\n*Includes Helmet \n 
URL:https://sundownmtn.com/event/d-a-r-e-ski-snowboard-day/
CATEGORIES:SPECIALS,Winter Events
ATTACH;FMTTYPE=image/jpeg:https://sundownmtn.com/wp-content/uploads/2024/12/Dare-lion-2022_04_22-21_32_20-UTC.jpg
END:VEVENT
BEGIN:VEVENT
DTSTART;TZID=America/Chicago:20250214T160000
DTEND;TZID=America/Chicago:20250214T200000
DTSTAMP:20260422T074948
CREATED:20250120T213328Z
LAST-MODIFIED:20250120T215530Z
UID:80537-1739548800-1739563200@sundownmtn.com
SUMMARY:🎶 Max Kowalski at Tips Up Bar + Grill 
DESCRIPTION:Join us at Sundown Mountain Resort this season for an incredible weekend music series! Enjoy live performances every Friday\, Saturday\, and Sunday\, featuring talented local and regional musicians. Relax by the fire\, sip on your delicious drinks\, enjoy your favorite food\, and soak in the lively atmosphere and beautiful view of the North Lodge.
URL:https://sundownmtn.com/event/%f0%9f%8e%b6-max-kowalski-at-tips-up-bar-grill/
CATEGORIES:Live Music,Winter Events
END:VEVENT
BEGIN:VEVENT
DTSTART;TZID=America/Chicago:20250215T000000
DTEND;TZID=America/Chicago:20250217T233000
DTSTAMP:20260422T074948
CREATED:20250211T170738Z
LAST-MODIFIED:20250211T174843Z
UID:80750-1739577600-1739835000@sundownmtn.com
SUMMARY:Presidents' Day Weekend Pass Sale!
DESCRIPTION:🚨 BEST DEAL OF THE YEAR 🚨PRESIDENT’S DAY SEASON PASS SALE – THIS WEEKEND ONLY! \n\n\n\n\n\nLooking for the BEST VALUE on your Sundown Mountain Resort Season Pass? This is it! For THREE DAYS ONLY\, snag a 2025-2026 pass at the LOWEST PRICE OF THE YEAR and enjoy the slopes for the rest of this season AND all of next season! \n\n\n\n\n\nFull Season Pass – ONLY $410Weekend Warrior Pass – ONLY $220Weekday Warrior Pass – ONLY $220 \n\n\n\n\n\nWhy buy now?Wrap-Around Passes – These passes are valid for the REST OF THIS SEASON & ALL OF NEXT SEASON! \n\n\n\nBuy online or in person at the ticket window from Saturday\, Feb. 15 until  Monday\, Feb. 17.This deal won’t be back until next year\, so don’t miss your chance to lock in the lowest price and max out your time on the slopes! See you on the slopes!
URL:https://sundownmtn.com/event/presidents-day-weekend-pass-sale/
CATEGORIES:SPECIALS,Winter Events
ATTACH;FMTTYPE=image/jpeg:https://sundownmtn.com/wp-content/uploads/2025/02/Sundown_PresidentsDay_Social_1080x1350_FirstPost-scaled.jpg
END:VEVENT
BEGIN:VEVENT
DTSTART;TZID=America/Chicago:20250215T150000
DTEND;TZID=America/Chicago:20250215T190000
DTSTAMP:20260422T074948
CREATED:20250120T213604Z
LAST-MODIFIED:20250120T215520Z
UID:80538-1739631600-1739646000@sundownmtn.com
SUMMARY:🎶 Massey Road Band at Tips Up Bar + Grill 
DESCRIPTION:Join us at Sundown Mountain Resort this season for an incredible weekend music series! Enjoy live performances every Friday\, Saturday\, and Sunday\, featuring talented local and regional musicians. Relax by the fire\, sip on your delicious drinks\, enjoy your favorite food\, and soak in the lively atmosphere and beautiful view of the North Lodge.
URL:https://sundownmtn.com/event/%f0%9f%8e%b6-massey-road-band-at-tips-up-bar-grill/
CATEGORIES:Live Music,Winter Events
ATTACH;FMTTYPE=image/jpeg:https://sundownmtn.com/wp-content/uploads/2025/01/Massey-Road-Band-.jpeg
END:VEVENT
BEGIN:VEVENT
DTSTART;TZID=America/Chicago:20250216T130000
DTEND;TZID=America/Chicago:20250216T170000
DTSTAMP:20260422T074948
CREATED:20250120T213922Z
LAST-MODIFIED:20250120T215507Z
UID:80540-1739710800-1739725200@sundownmtn.com
SUMMARY:🎶 Tony Walker at Tips Up Bar + Grill 
DESCRIPTION:Join us at Sundown Mountain Resort this season for an incredible weekend music series! Enjoy live performances every Friday\, Saturday\, and Sunday\, featuring talented local and regional musicians. Relax by the fire\, sip on your delicious drinks\, enjoy your favorite food\, and soak in the lively atmosphere and beautiful view of the North Lodge.Learn more about Tony Walker Here!
URL:https://sundownmtn.com/event/%f0%9f%8e%b6-tony-walker-at-tips-up-bar-grill/
CATEGORIES:Live Music,Winter Events
ATTACH;FMTTYPE=image/jpeg:https://sundownmtn.com/wp-content/uploads/2025/01/Tony_Walker_millwork_pic_.jpg
END:VEVENT
BEGIN:VEVENT
DTSTART;TZID=America/Chicago:20250221T160000
DTEND;TZID=America/Chicago:20250221T200000
DTSTAMP:20260422T074948
CREATED:20250120T214116Z
LAST-MODIFIED:20250120T214118Z
UID:80542-1740153600-1740168000@sundownmtn.com
SUMMARY:🎶 Lexi Healy at Tips Up Bar + Grill 
DESCRIPTION:Join us at Sundown Mountain Resort this season for an incredible weekend music series! Enjoy live performances every Friday\, Saturday\, and Sunday\, featuring talented local and regional musicians. Relax by the fire\, sip on your delicious drinks\, enjoy your favorite food\, and soak in the lively atmosphere and beautiful view of the North Lodge. \n\n\n\n\n\nLearn More about Lexi Healy here! 
URL:https://sundownmtn.com/event/%f0%9f%8e%b6-lexi-healy-at-tips-up-bar-grill/
CATEGORIES:Live Music,Winter Events
ATTACH;FMTTYPE=image/jpeg:https://sundownmtn.com/wp-content/uploads/2025/01/Lexi-Healy-.jpg
END:VEVENT
BEGIN:VEVENT
DTSTART;TZID=America/Chicago:20250222T150000
DTEND;TZID=America/Chicago:20250222T190000
DTSTAMP:20260422T074948
CREATED:20250120T214301Z
LAST-MODIFIED:20250120T214303Z
UID:80544-1740236400-1740250800@sundownmtn.com
SUMMARY:🎶 Casey Klein at Tips Up Bar + Grill 
DESCRIPTION:Join us at Sundown Mountain Resort this season for an incredible weekend music series! Enjoy live performances every Friday\, Saturday\, and Sunday\, featuring talented local and regional musicians. Relax by the fire\, sip on your delicious drinks\, enjoy your favorite food\, and soak in the lively atmosphere and beautiful view of the North Lodge. \n\n\n\n  \nLearn more about Casey Klein Here! 
URL:https://sundownmtn.com/event/%f0%9f%8e%b6-casey-klein-at-tips-up-bar-grill/
CATEGORIES:Live Music,Winter Events
ATTACH;FMTTYPE=image/jpeg:https://sundownmtn.com/wp-content/uploads/2025/01/Casey-Klein-.jpg
END:VEVENT
BEGIN:VEVENT
DTSTART;TZID=America/Chicago:20250223T130000
DTEND;TZID=America/Chicago:20250223T170000
DTSTAMP:20260422T074948
CREATED:20250120T214547Z
LAST-MODIFIED:20250120T215454Z
UID:80546-1740315600-1740330000@sundownmtn.com
SUMMARY:🎶 Laura McDonald & Marcus DeJesus at Tips Up Bar + Grill 
DESCRIPTION:Join us at Sundown Mountain Resort this season for an incredible weekend music series! Enjoy live performances every Friday\, Saturday\, and Sunday\, featuring talented local and regional musicians. Relax by the fire\, sip on your delicious drinks\, enjoy your favorite food\, and soak in the lively atmosphere and beautiful view of the North Lodge.Learn more about Laura McDonald Here!
URL:https://sundownmtn.com/event/%f0%9f%8e%b6-laura-mcdonald-marcus-dejesus-at-tips-up-bar-grill/
CATEGORIES:Live Music,Winter Events
ATTACH;FMTTYPE=image/jpeg:https://sundownmtn.com/wp-content/uploads/2025/01/Laura-McDonald-.jpg
END:VEVENT
BEGIN:VEVENT
DTSTART;TZID=America/Chicago:20250228T100000
DTEND;TZID=America/Chicago:20250228T230000
DTSTAMP:20260422T074948
CREATED:20250120T220201Z
LAST-MODIFIED:20250121T194155Z
UID:79710-1740736800-1740783600@sundownmtn.com
SUMMARY:D.A.R.E. Ski/Snowboard Night
DESCRIPTION:Open to all D.A.R.E. (Drug Abuse Resistance Education) students and family members. Click HERE for details. \n\n\n\nWalk-in Registration: 4 PM- 6 PM  \n\n\n\nCOST:PREREGISTRATION: Preregistration ends at 12 AM\, Wednesday\, February 19\, 2025.Lift | $30Lift\, Lesson & Ski Rental* | $35Lift\, Lesson & Snowboard Rental* | $40*Includes Helmet  \n\n\n\nWALK-IN RATE Lift | $35 Lift\, Lesson & Ski Rental | $40Lift\, Lesson & Snowboard Rental* | $45 \n\n\n\n*Includes Helmet  \n  \n 
URL:https://sundownmtn.com/event/d-a-r-e-ski-snowboard-night-7/
CATEGORIES:SPECIALS,Winter Events
ATTACH;FMTTYPE=image/jpeg:https://sundownmtn.com/wp-content/uploads/2024/12/Dare-lion-2022_04_22-21_32_20-UTC.jpg
END:VEVENT
END:VCALENDAR