BEGIN:VCALENDAR
VERSION:2.0
PRODID:-//Sundown Mountain Resort - ECPv6.15.20//NONSGML v1.0//EN
CALSCALE:GREGORIAN
METHOD:PUBLISH
X-WR-CALNAME:Sundown Mountain Resort
X-ORIGINAL-URL:https://sundownmtn.com
X-WR-CALDESC:Events for Sundown Mountain Resort
REFRESH-INTERVAL;VALUE=DURATION:PT1H
X-Robots-Tag:noindex
X-PUBLISHED-TTL:PT1H
BEGIN:VTIMEZONE
TZID:America/Chicago
BEGIN:DAYLIGHT
TZOFFSETFROM:-0600
TZOFFSETTO:-0500
TZNAME:CDT
DTSTART:20210314T080000
END:DAYLIGHT
BEGIN:STANDARD
TZOFFSETFROM:-0500
TZOFFSETTO:-0600
TZNAME:CST
DTSTART:20211107T070000
END:STANDARD
BEGIN:DAYLIGHT
TZOFFSETFROM:-0600
TZOFFSETTO:-0500
TZNAME:CDT
DTSTART:20220313T080000
END:DAYLIGHT
BEGIN:STANDARD
TZOFFSETFROM:-0500
TZOFFSETTO:-0600
TZNAME:CST
DTSTART:20221106T070000
END:STANDARD
BEGIN:DAYLIGHT
TZOFFSETFROM:-0600
TZOFFSETTO:-0500
TZNAME:CDT
DTSTART:20230312T080000
END:DAYLIGHT
BEGIN:STANDARD
TZOFFSETFROM:-0500
TZOFFSETTO:-0600
TZNAME:CST
DTSTART:20231105T070000
END:STANDARD
BEGIN:DAYLIGHT
TZOFFSETFROM:-0600
TZOFFSETTO:-0500
TZNAME:CDT
DTSTART:20240310T080000
END:DAYLIGHT
BEGIN:STANDARD
TZOFFSETFROM:-0500
TZOFFSETTO:-0600
TZNAME:CST
DTSTART:20241103T070000
END:STANDARD
END:VTIMEZONE
BEGIN:VEVENT
DTSTART;TZID=America/Chicago:20230312T100000
DTEND;TZID=America/Chicago:20230312T170000
DTSTAMP:20260419T103210
CREATED:20220228T203945Z
LAST-MODIFIED:20230311T161248Z
UID:14371-1678615200-1678640400@sundownmtn.com
SUMMARY:Slush Cup & Dummy Jump 2023
DESCRIPTION:REGISTRATION: 10 AM-Noon (See below)SLUSH CUP COMPETITION: 1:00 PM\, Dummy Jump to follow \n\n\n\nIt’s that time of year again for the Annual Sundown Slush Cup & Dummy Jump! Anyone and everyone are welcome to come out and participate or watch the fun festivities take place on Sunday\, March 12th! JUST ANNOUNCED: As a thank you for a wonderful season\, ALL SEASON PASSHOLDERS (YES\, THAT INCLUDES WEEKDAY WARRIORS) are valid to ski or snowboard from 8 AM-4 PM\, MARCH 12th! \n\n\n\nSlush Cup Details••••••••••••••••••Check-In and Registration: 10 am-NoonMountain Center Ticket WindowWaivers need to be signed online or at Ticket window. Must have a day lift ticket\, Full Season\, Weekend or Weekday Warrior pass to participate.Location: Top of TurkeySkiers and Snowboarders welcomeThe competition starts at 1 pmPrizes: 1st-Full Season Pass2nd- Sundown $100 Gift CardBest Costume: Sundown $50 Gift Card \n\n\n\nDummy Jump Details••••••••••••••••••••••Check-In and Registration: 10 am-NoonGroup OfficeLocation: Top of TurkeyBuild your own or come cheer on othersThe competition starts after the Slush Cup \n\n\n\nPrizes will be given out to:– Best intact– Best crash– Judges Choice– Best Craftsmanship– Most Entertaining– Best Theme \n\n\n\nDummy Rules:• Built on skis or snowboard. NEED SKIS/SNOWBOARD for your dummy? We supply USED skis/snowboards free of charge for your dummy. Please visit our Rental Department prior to the competition to pick up your used ski/snowboard equipment.• At least 3 ft tall• Weigh under 150 pounds• Be non-living and non-breathing dummies• Gravity propelled only• No motorizations or explosives• Construction must be stable/projectile proof \n\n\n\nDownload a Dummy Jump Registration Form below. \n\n\n\nFor any questions\, please click HERE. \n\n\n\n\nCLICK HERE TO DOWNLOAD REGISTRATION FORM & RULES
URL:https://sundownmtn.com/event/slush-cup-dummy-jump/
ATTACH;FMTTYPE=image/jpeg:https://sundownmtn.com/wp-content/uploads/2022/02/Slush-Cup-and-Dummy-Jump-2022_sq.jpg
END:VEVENT
BEGIN:VEVENT
DTSTART;TZID=America/Chicago:20230310T160000
DTEND;TZID=America/Chicago:20230310T193000
DTSTAMP:20260419T103210
CREATED:20230302T213720Z
LAST-MODIFIED:20230303T184411Z
UID:18982-1678464000-1678476600@sundownmtn.com
SUMMARY:Big Air Jam Competition
DESCRIPTION:Competitors will have three runs to show off their best trick. Prizes include cash*\, gear\, and giveaways from our proud sponsors! \n\n\n\nDivisions: Male and female: u13\, 14-17\, 18+\, (May be subject to change based on participation and/or split between skiers and riders)Registration: 4-5:30 PM | Lower level of the North LodgeRiders Meeting: 5:45 PM | Lower level of the North LodgeCompetition: 6 PM | Turkey Ridge\, outside of the North Lodge \n\n\n\nPrizes to follow at upper level of North Lodge.Competition Entry Fee: $15 \n\n\n\nPlease CLICK HERE to contact Calvin for any questions. \n\n\n\n*18+ division only
URL:https://sundownmtn.com/event/big-air-jam-competition/
ATTACH;FMTTYPE=image/jpeg:https://sundownmtn.com/wp-content/uploads/2023/03/Big-Air-Jam_Insta-1.jpg
END:VEVENT
BEGIN:VEVENT
DTSTART;TZID=America/Chicago:20230305T130000
DTEND;TZID=America/Chicago:20230305T170000
DTSTAMP:20260419T103210
CREATED:20220228T225434Z
LAST-MODIFIED:20230121T143909Z
UID:14385-1678021200-1678035600@sundownmtn.com
SUMMARY:Laura McDonald | Tips Up Food & Spirits
DESCRIPTION:Join Laura McDonald for LIVE music at Tips Up Food & Spirits\, located in the North Lodge\, from 1-5 PM. This event is FREE.
URL:https://sundownmtn.com/event/laura-mcdonald-robby-live-at-tips-up-food-spirits/
ATTACH;FMTTYPE=image/jpeg:https://sundownmtn.com/wp-content/uploads/2022/02/Laura_McDonald.jpg
END:VEVENT
BEGIN:VEVENT
DTSTART;TZID=America/Chicago:20230305T120000
DTEND;TZID=America/Chicago:20230305T160000
DTSTAMP:20260419T103210
CREATED:20210301T184735Z
LAST-MODIFIED:20230302T212619Z
UID:9422-1678017600-1678032000@sundownmtn.com
SUMMARY:Midwest Freeriders' End of Season Jam
DESCRIPTION:Midwest Freeriders will have it all during their End Of Season Jam!Noon-4 pm. Come hang out with the MWFRs and see their moves!Located at the top of “Turkey” by the North Lodge!
URL:https://sundownmtn.com/event/midwest-freeriders-end-of-season-jam/
ATTACH;FMTTYPE=image/jpeg:https://sundownmtn.com/wp-content/uploads/2021/03/Midwest-Freeriders-End-of-Season-Jam_sq.jpg
END:VEVENT
BEGIN:VEVENT
DTSTART;TZID=America/Chicago:20230225T130000
DTEND;TZID=America/Chicago:20230225T170000
DTSTAMP:20260419T103210
CREATED:20210201T052820Z
LAST-MODIFIED:20221207T141355Z
UID:8855-1677330000-1677344400@sundownmtn.com
SUMMARY:Casey Klein LIVE at The Barn
DESCRIPTION:The LIVE MUSIC kicks off at 1 PM with Casey Klein performing at The Barn! The Barn is our newest warming station located on the hillside between Gun Barrel and Bullet. The only way to get there is by skis or snowboard! Enjoy a beverage in our semi-open space or next to our outdoor fire pit!
URL:https://sundownmtn.com/event/casey-klein-the-barn-2/
LOCATION:Sundown Mountain Resort\, 16991 Asbury Road\, Dubuque\, Iowa\, 52002\, United States
ATTACH;FMTTYPE=image/jpeg:https://sundownmtn.com/wp-content/uploads/2020/11/Casey-Klein-2-scaled-e1604514117904.jpg
END:VEVENT
BEGIN:VEVENT
DTSTART;TZID=America/Chicago:20230224T160000
DTEND;TZID=America/Chicago:20230224T200000
DTSTAMP:20260419T103210
CREATED:20221207T141059Z
LAST-MODIFIED:20221207T141102Z
UID:17622-1677254400-1677268800@sundownmtn.com
SUMMARY:Mini Monster | Tips Up Food & Spirits
DESCRIPTION:Join Mini Monster for FREE live music at Tips Up Food & Spirits\, located inside the North Lodge at Sundown Mountain Resort!
URL:https://sundownmtn.com/event/mini-monster-tips-up-food-spirits-2/
ATTACH;FMTTYPE=image/jpeg:https://sundownmtn.com/wp-content/uploads/2022/12/Mini-Monster.jpg
END:VEVENT
BEGIN:VEVENT
DTSTART;TZID=America/Chicago:20230224T100000
DTEND;TZID=America/Chicago:20230224T230000
DTSTAMP:20260419T103210
CREATED:20201129T065432Z
LAST-MODIFIED:20230117T164124Z
UID:7236-1677232800-1677279600@sundownmtn.com
SUMMARY:D.A.R.E. Ski/Snowboard Day
DESCRIPTION:Open to all D.A.R.E. (Drug Abuse Resistance Education) and families. \n\n\n\nGROUP LEADER: Officer Jason Hoerner \n\n\n\nDATE: February 24\, 2023 \n\n\n\nPreregistration ends at 11:59 PM on 2/20/23. \n\n\n						\n				\n									\n													\n																								D.A.R.E. Ski/Snowboard Day\n									\n								\n																								Pre-Register\n									\n								\n																								Walk-Up\n									\n								\n													\n					\n					\n																																																									Lift Ticket																\n																																																	$32																\n																																																	$37																\n																					\n																																																									Lift Ticket\, Lesson\, & Ski Rental																\n																																																	$38																\n																																																	$43																\n																					\n																																																									Lift Ticket\, Lesson\, & Snowboard Rental																\n																																																	$43																\n																																																	$47																\n																					\n										\n				\n			\n		\n\n\n\n\nClick Here For Details and To Register
URL:https://sundownmtn.com/event/d-a-r-e-ski-snowboard-night-3/
ATTACH;FMTTYPE=image/jpeg:https://sundownmtn.com/wp-content/uploads/2020/11/Dare-Day-at-Sundown-MTNsq.jpg
END:VEVENT
BEGIN:VEVENT
DTSTART;TZID=America/Chicago:20230219T130000
DTEND;TZID=America/Chicago:20230219T170000
DTSTAMP:20260419T103210
CREATED:20221207T140926Z
LAST-MODIFIED:20221207T211204Z
UID:17620-1676811600-1676826000@sundownmtn.com
SUMMARY:Nate Jenkins | Tips Up Food & Spirits
DESCRIPTION:Join us at Tips Up Food & Spirits\, located inside the North Lodge\, for live music from Nate Jenkins\, from 1-5 pm. 
URL:https://sundownmtn.com/event/nate-jenkins-tips-up-food-spirits-2/
ATTACH;FMTTYPE=image/jpeg:https://sundownmtn.com/wp-content/uploads/2021/12/Nate-Jenkins.jpg
END:VEVENT
BEGIN:VEVENT
DTSTART;TZID=America/Chicago:20230218T150000
DTEND;TZID=America/Chicago:20230218T190000
DTSTAMP:20260419T103210
CREATED:20230215T023415Z
LAST-MODIFIED:20230215T023419Z
UID:18714-1676732400-1676746800@sundownmtn.com
SUMMARY:Beau Timmermann | Tips Up Food & Spirits
DESCRIPTION:Join Beau Timmermann for FREE live music at Tips Up Food & Spirits inside the North Lodge!
URL:https://sundownmtn.com/event/beau-timmermann-tips-up-food-spirits/
ATTACH;FMTTYPE=image/jpeg:https://sundownmtn.com/wp-content/uploads/2023/02/Beau_timmermann.jpg
END:VEVENT
BEGIN:VEVENT
DTSTART;TZID=America/Chicago:20230218T120000
DTEND;TZID=America/Chicago:20230218T160000
DTSTAMP:20260419T103210
CREATED:20221204T043921Z
LAST-MODIFIED:20230215T152126Z
UID:17498-1676721600-1676736000@sundownmtn.com
SUMMARY:Joie Wails | South Lodge
DESCRIPTION:Join Joie Wails for FREE live music at the newly renovated South Lodge from Noon-4 PM during the Smoke On The Mountain BBQ Contest. \n\n\n\n\nClick Here to Learn More About Smoke On The Mountain BBQ Contest
URL:https://sundownmtn.com/event/joie-wails-south-lodge/
ATTACH;FMTTYPE=image/jpeg:https://sundownmtn.com/wp-content/uploads/2020/11/joie-wails-band-e1606541435966.jpg
END:VEVENT
BEGIN:VEVENT
DTSTART;TZID=America/Chicago:20230218T110000
DTEND;TZID=America/Chicago:20230218T170000
DTSTAMP:20260419T103210
CREATED:20230215T154543Z
LAST-MODIFIED:20230215T154821Z
UID:18794-1676718000-1676739600@sundownmtn.com
SUMMARY:Grillbilly's BBQ Food Truck
DESCRIPTION:Grillbilly’s BBQ Food Truck will be located outside the South Lodge\, serving food for purchase during the Smoke On The Mountain BBQ Contest from 11 AM until they sell out. So stop down\, try their award-winning BBQ\, and listen to some tunes from Joie Wails from Noon-4 PM. \n\n\n\n\nClick Here for details about the Smoke On The Mountain BBQ Contest
URL:https://sundownmtn.com/event/grillbillys-bbq-food-truck/
ATTACH;FMTTYPE=image/jpeg:https://sundownmtn.com/wp-content/uploads/2023/02/GrillbillysBBQ.jpg
END:VEVENT
BEGIN:VEVENT
DTSTART;TZID=America/Chicago:20230218T110000
DTEND;TZID=America/Chicago:20230218T170000
DTSTAMP:20260419T103210
CREATED:20210118T051407Z
LAST-MODIFIED:20230215T154705Z
UID:8605-1676718000-1676739600@sundownmtn.com
SUMMARY:Smoke On The Mountain BBQ Contest
DESCRIPTION:SAVE THE DATE! We’re excited for another year of Smoke On The Mountain hosted by the Living For Brecken Foundation. Enjoy BBQ\, presentation & demo of donated adaptive equipment\, and FREE live music from Joie Wails at the newly renovated South Lodge on Saturday\, February 18th!  \n\n\n\n11 AM-2 PM: Grillbilly’s BBQ selling food for purchase.Noon-4 PM: Joie Wails will be performing inside the South Lodge. 2 PM: $15 Boxes of Wings/Ribs available for sale until sold out.3 PM: Presentation and demo of adaptive ski equipment. See the adaptive equipment we purchased from previous years’ fundraisers in action in our Beginner Area.4 PM: Competition awards ceremony in the South Lodge. \n\n\n\n \n\n\n\nIf interested in entering the BBQ contest? Please get in touch with Daniella at 563.543.3541. Registration closes on February 13th. A $100 entrance fee is due at the time of registration.
URL:https://sundownmtn.com/event/smoke-on-the-mountain/
ATTACH;FMTTYPE=image/jpeg:https://sundownmtn.com/wp-content/uploads/2021/01/Smoke-on-the-mountian_Sq.jpg
END:VEVENT
BEGIN:VEVENT
DTSTART;TZID=America/Chicago:20230217T160000
DTEND;TZID=America/Chicago:20230217T190000
DTSTAMP:20260419T103210
CREATED:20221207T140717Z
LAST-MODIFIED:20221207T140719Z
UID:17617-1676649600-1676660400@sundownmtn.com
SUMMARY:Stolen Grace | Tips Up Food & Spirits
DESCRIPTION:Join Stolen Grace for FREE live music at Tips Up Food & Spirits inside the North Lodge!
URL:https://sundownmtn.com/event/stolen-grace-tips-up-food-spirits/
ATTACH;FMTTYPE=image/jpeg:https://sundownmtn.com/wp-content/uploads/2022/12/Stolen-Grace.jpg
END:VEVENT
BEGIN:VEVENT
DTSTART;TZID=America/Chicago:20230204T150000
DTEND;TZID=America/Chicago:20230204T190000
DTSTAMP:20260419T103210
CREATED:20211221T035501Z
LAST-MODIFIED:20230121T134004Z
UID:12896-1675522800-1675537200@sundownmtn.com
SUMMARY:Elizabeth Mary LIVE at Tips Up Food & Spirits
DESCRIPTION:Join us at Tips Up Food & Spirits\, located inside the North Lodge\, for FREE live music from Elizabeth Mary\, from 3-7 pm. 
URL:https://sundownmtn.com/event/elizabeth-mary-live-at-tips-up-food-spirits/
ATTACH;FMTTYPE=image/jpeg:https://sundownmtn.com/wp-content/uploads/2021/12/Elizabeth-Mary.jpg
END:VEVENT
BEGIN:VEVENT
DTSTART;TZID=America/Chicago:20230203T100000
DTEND;TZID=America/Chicago:20230203T230000
DTSTAMP:20260419T103210
CREATED:20201129T064703Z
LAST-MODIFIED:20230131T153221Z
UID:7230-1675418400-1675465200@sundownmtn.com
SUMMARY:D.A.R.E. Ski/Snowboard Day
DESCRIPTION:Open to all D.A.R.E. (Drug Abuse Resistance Education) and families. \n\n\n\nGROUP LEADER: Officer Jason Hoerner \n\n\n\nDATE: Friday\, February 3\, 2023 \n\n\n\nPreregistration ends at 11:59 PM on 1/31/23. \n\n\n						\n				\n									\n													\n																								D.A.R.E. Ski/Snowboard Day\n									\n								\n																								Pre-Register\n									\n								\n																								Walk-Up\n									\n								\n													\n					\n					\n																																																									Lift Ticket																\n																																																	$32																\n																																																	$37																\n																					\n																																																									Lift Ticket\, Lesson\, & Ski Rental																\n																																																	$38																\n																																																	$43																\n																					\n																																																									Lift Ticket\, Lesson\, & Snowboard Rental																\n																																																	$43																\n																																																	$47																\n																					\n										\n				\n			\n		\n\n\n\n\nClick Here For Details and To Register
URL:https://sundownmtn.com/event/d-a-r-e-ski-snowboard-night-2/
LOCATION:Sundown Mountain Resort\, 16991 Asbury Road\, Dubuque\, Iowa\, 52002\, United States
ATTACH;FMTTYPE=image/jpeg:https://sundownmtn.com/wp-content/uploads/2020/11/Dare-Day-at-Sundown-MTNsq.jpg
END:VEVENT
BEGIN:VEVENT
DTSTART;TZID=America/Chicago:20230129T120000
DTEND;TZID=America/Chicago:20230129T200000
DTSTAMP:20260419T103210
CREATED:20221110T044655Z
LAST-MODIFIED:20230127T193809Z
UID:16769-1674993600-1675022400@sundownmtn.com
SUMMARY:Founders' Party In The South Lodge
DESCRIPTION:We’re celebrating our 50th SEASON with a shindig where it all started\, in our South Lodge! Join us for some 70s-inspired drink specials\, food from Grillbilly’s BBQ\, LIVE music from Joie Wails from 1-5 PM\, a 70s costume contest\, giveaways\, and more! \n\n\n\nGiveaway Prizes:  \n\n\n\n\nSnowboard from 7G Distributing\n\n\n\nParty Zone Package\, courtesy of  7G Distributing that includes 20 tickets to the March 4th Dubuque Fighting Saints Game against the Des Moines Buccaneers\, 4 pizzas\, 24-pack of water or soda.\n\n\n\nSamuel Adams Skis from IBEV\n\n\n\nGift cards to Sundown Mountain\n\n\n\n50th Anniversary shirts from Pepsi: Lime Rock Springs Co.\n\n\n\nGear and accessories donated by Free Flight\n\n\n\nAnd more!
URL:https://sundownmtn.com/event/founders-party-in-the-south-lodge/
ATTACH;FMTTYPE=image/jpeg:https://sundownmtn.com/wp-content/uploads/2022/11/Founders_party_logo-01-01.jpg
END:VEVENT
BEGIN:VEVENT
DTSTART;TZID=America/Chicago:20230127T160000
DTEND;TZID=America/Chicago:20230127T200000
DTSTAMP:20260419T103210
CREATED:20221207T135309Z
LAST-MODIFIED:20221207T135312Z
UID:17606-1674835200-1674849600@sundownmtn.com
SUMMARY:Nate Jenkins | Tips Up Food & Spirits
DESCRIPTION:Join us at Tips Up Food & Spirits\, located inside the North Lodge\, for live music from Nate Jenkins\, from 4-8 pm. 
URL:https://sundownmtn.com/event/nate-jenkins-tips-up-food-spirits/
ATTACH;FMTTYPE=image/jpeg:https://sundownmtn.com/wp-content/uploads/2021/12/Nate-Jenkins.jpg
END:VEVENT
BEGIN:VEVENT
DTSTART;TZID=America/Chicago:20230122T120000
DTEND;TZID=America/Chicago:20230122T160000
DTSTAMP:20260419T103210
CREATED:20210201T052219Z
LAST-MODIFIED:20230121T132202Z
UID:8849-1674388800-1674403200@sundownmtn.com
SUMMARY:Nate Jenkins | The Barn
DESCRIPTION:The LIVE MUSIC kicks off at noon with Nate Jenkins performing at The Barn! The Barn is our newest warming station located on the hillside between Gun Barrel and Bullet. The only way to get there is by skis or snowboarding! Enjoy a beverage in our semi-open space or next to our outdoor fire pit!
URL:https://sundownmtn.com/event/jake-bender-the-barn/
ATTACH;FMTTYPE=image/jpeg:https://sundownmtn.com/wp-content/uploads/2021/01/IMG_6075-scaled.jpg
END:VEVENT
BEGIN:VEVENT
DTSTART;TZID=America/Chicago:20230121T160000
DTEND;TZID=America/Chicago:20230121T190000
DTSTAMP:20260419T103210
CREATED:20220120T035024Z
LAST-MODIFIED:20221207T205056Z
UID:13742-1674316800-1674327600@sundownmtn.com
SUMMARY:Nutsy Turtle Band | Tips Up Food & Spirits
DESCRIPTION:Join us at Tips Up Food & Spirits\, located inside the North Lodge\, for live music from Nutsy Turtle Band\, from 4-7 pm. 
URL:https://sundownmtn.com/event/nutsie-turtle-live-at-tips-up-food-spirits-2/
ATTACH;FMTTYPE=image/jpeg:https://sundownmtn.com/wp-content/uploads/2022/01/Nutsy-Turtle-1.jpg
END:VEVENT
BEGIN:VEVENT
DTSTART;TZID=America/Chicago:20230121T120000
DTEND;TZID=America/Chicago:20230121T160000
DTSTAMP:20260419T103210
CREATED:20210201T052454Z
LAST-MODIFIED:20230121T132442Z
UID:8852-1674302400-1674316800@sundownmtn.com
SUMMARY:Michael Breitbach | The Barn
DESCRIPTION:The LIVE MUSIC kicks off  at noon with Michael Breitbach performing at The Barn! The Barn is our newest warming station located on the hillside between Gun Barrel and Bullet. The only way to get there is by skis or snowboard! Enjoy a beverage in our semi-open space or next to our outdoor fire pit!
URL:https://sundownmtn.com/event/theresa-rosetta/
ATTACH;FMTTYPE=image/jpeg:https://sundownmtn.com/wp-content/uploads/2020/11/Michael-Breitbach-scaled.jpg
END:VEVENT
BEGIN:VEVENT
DTSTART;TZID=America/Chicago:20230121T080000
DTEND;TZID=America/Chicago:20230122T170000
DTSTAMP:20260419T103210
CREATED:20211230T012756Z
LAST-MODIFIED:20230117T170550Z
UID:13067-1674288000-1674406800@sundownmtn.com
SUMMARY:WIJARA- Gene & Ginny Gordon Memorial Race at Sundown Mountain Resort
DESCRIPTION:WIJARA (Wisconsin/Illinois/Iowa Junior Alpine Racing Association) includes nine Midwest ski teams\, comes to Sundown Mountain Resort on January 21st-22nd.  \n\n\n\nRace Trail Closure Update: Due to WIJARA race prep and competition\, portions of our trails\, Snow Devil and Racers Edge\, will be closed to the general public beginning Friday\, January 20th\, through Sunday\, January 22nd. Please watch our website and social media pages for updates.  \n\n\n\n \n\n\n\nContact: SRTeamCoordinator@gmail.com or SRTBoard@gmail.com
URL:https://sundownmtn.com/event/wijara-race-at-sundown-mountain-resort/
ATTACH;FMTTYPE=image/png:https://sundownmtn.com/wp-content/uploads/2019/12/WIJARA-Logo.png
END:VEVENT
BEGIN:VEVENT
DTSTART;TZID=America/Chicago:20230114T150000
DTEND;TZID=America/Chicago:20230114T190000
DTSTAMP:20260419T103210
CREATED:20221123T032924Z
LAST-MODIFIED:20221204T042611Z
UID:17239-1673708400-1673722800@sundownmtn.com
SUMMARY:Mississippi Duo | Tips Up Food & Spirits
DESCRIPTION:Join us for FREE LIVE music from the Mississippi Duo at Tips Up Food & Spirits inside the North Lodge.
URL:https://sundownmtn.com/event/mississippi-duo-at-tips-up-food-spirits/
ATTACH;FMTTYPE=image/jpeg:https://sundownmtn.com/wp-content/uploads/2022/11/Mississippi_Duo_Sq.jpg
END:VEVENT
BEGIN:VEVENT
DTSTART;TZID=America/Chicago:20230114T120000
DTEND;TZID=America/Chicago:20230114T150000
DTSTAMP:20260419T103210
CREATED:20230111T223429Z
LAST-MODIFIED:20230111T223432Z
UID:18238-1673697600-1673708400@sundownmtn.com
SUMMARY:Abbey Rode | South Lodge
DESCRIPTION:Join Abby Rode for free live music in our newly renovated South Lodge overlooking the Beginner Area!
URL:https://sundownmtn.com/event/abbey-rode-south-lodge/
ATTACH;FMTTYPE=image/jpeg:https://sundownmtn.com/wp-content/uploads/2023/01/Abbey_rode_south_lodge.jpg
END:VEVENT
BEGIN:VEVENT
DTSTART;TZID=America/Chicago:20230106T160000
DTEND;TZID=America/Chicago:20230106T200000
DTSTAMP:20260419T103210
CREATED:20221207T133642Z
LAST-MODIFIED:20221207T133721Z
UID:17595-1673020800-1673035200@sundownmtn.com
SUMMARY:Mini Monster | Tips Up Food & Spirits
DESCRIPTION:Join Mini Monster for FREE live music at Tips Up Food & Spirits\, located inside the North Lodge at Sundown Mountain Resort!
URL:https://sundownmtn.com/event/mini-monster-tips-up-food-spirits/
ATTACH;FMTTYPE=image/jpeg:https://sundownmtn.com/wp-content/uploads/2022/12/Mini-Monster.jpg
END:VEVENT
BEGIN:VEVENT
DTSTART;TZID=America/Chicago:20221230T160000
DTEND;TZID=America/Chicago:20221230T200000
DTSTAMP:20260419T103210
CREATED:20221207T203718Z
LAST-MODIFIED:20221207T203721Z
UID:17633-1672416000-1672430400@sundownmtn.com
SUMMARY:Laura McDonald | Tips Up Food & Spirits
DESCRIPTION:Join Laura McDonald for FREE live music at Tips Up Food & Spirits\, located inside the North Lodge at Sundown Mountain Resort!
URL:https://sundownmtn.com/event/laura-mcdonald-tips-up-food-spirits/
ATTACH;FMTTYPE=image/jpeg:https://sundownmtn.com/wp-content/uploads/2022/02/Laura_McDonald.jpg
END:VEVENT
BEGIN:VEVENT
DTSTART;TZID=America/Chicago:20221230T090000
DTEND;TZID=America/Chicago:20221230T210000
DTSTAMP:20260419T103210
CREATED:20201129T064129Z
LAST-MODIFIED:20221115T004022Z
UID:7224-1672390800-1672434000@sundownmtn.com
SUMMARY:D.A.R.E. Ski/Snowboard Night
DESCRIPTION:Open to all D.A.R.E. (Drug Abuse Resistance Education) and families. \n\n\n\nGROUP LEADER: Officer Jason Hoerner \n\n\n\nDATE: Friday\, December 30\, 2022 \n\n\n\nPreregistration ends at 11:59 PM on 12/26/22. \n\n\n						\n				\n									\n													\n																								D.A.R.E. Ski/Snowboard Day\n									\n								\n																								Pre-Register\n									\n								\n																								Walk-Up\n									\n								\n													\n					\n					\n																																																									Lift Ticket																\n																																																	$32																\n																																																	$37																\n																					\n																																																									Lift Ticket\, Lesson\, & Ski Rental																\n																																																	$38																\n																																																	$43																\n																					\n																																																									Lift Ticket\, Lesson\, & Snowboard Rental																\n																																																	$43																\n																																																	$47																\n																					\n										\n				\n			\n		\n\n\n\n\nClick Here For Details and To Register
URL:https://sundownmtn.com/event/d-a-r-e-ski-snowboard-night/
LOCATION:Sundown Mountain Resort\, 16991 Asbury Road\, Dubuque\, Iowa\, 52002\, United States
ATTACH;FMTTYPE=image/jpeg:https://sundownmtn.com/wp-content/uploads/2021/10/Dare-Night_sq.jpg
END:VEVENT
BEGIN:VEVENT
DTSTART;TZID=America/Chicago:20221222T090000
DTEND;TZID=America/Chicago:20221222T160000
DTSTAMP:20260419T103210
CREATED:20221216T215642Z
LAST-MODIFIED:20221221T212936Z
UID:17899-1671699600-1671724800@sundownmtn.com
SUMMARY:Santas On The Slopes
DESCRIPTION:Join us for our first-ever Santas On The Slopes on December 22nd! Come dressed in your best Santa gear and receive a FREE lift ticket to ski or snowboard that day!*  Skiers/snowboarders must wear a full Santa suit\, including a notable hat\, jacket\, pants\, and beard\, to receive a free lift ticket. Please see the Ticket Window to redeem your free lift ticket that day.  \n\n\n\n*Valid Dec. 22nd only. Rental not included.
URL:https://sundownmtn.com/event/santas-on-the-slopes/
ATTACH;FMTTYPE=image/jpeg:https://sundownmtn.com/wp-content/uploads/2022/12/Santa_On_The-_Slopes_sq.jpg
END:VEVENT
BEGIN:VEVENT
DTSTART;TZID=America/Chicago:20221218T130000
DTEND;TZID=America/Chicago:20221218T170000
DTSTAMP:20260419T103210
CREATED:20211221T032346Z
LAST-MODIFIED:20221204T042835Z
UID:12872-1671368400-1671382800@sundownmtn.com
SUMMARY:Nate Jenkins | Tips Up Food & Spirits
DESCRIPTION:Join us at Tips Up Food & Spirits\, located inside the North Lodge\, for live music from Nate Jenkins\, from 1-5 pm. 
URL:https://sundownmtn.com/event/nate-jenkins-live-at-tips-up-food-spirits/
ATTACH;FMTTYPE=image/jpeg:https://sundownmtn.com/wp-content/uploads/2021/12/Nate-Jenkins.jpg
END:VEVENT
BEGIN:VEVENT
DTSTART;TZID=America/Chicago:20221216T160000
DTEND;TZID=America/Chicago:20221216T200000
DTSTAMP:20260419T103210
CREATED:20221204T042249Z
LAST-MODIFIED:20221204T042253Z
UID:17484-1671206400-1671220800@sundownmtn.com
SUMMARY:Bryce Reeg |Tips Up Food & Spirits
DESCRIPTION:Bryce Reeg from Nashville will be performing LIVE at Tips Up Food & Spirits\, from 4 PM-8 PM. This event is FREE.
URL:https://sundownmtn.com/event/bryce-reeg-tips-up-food-spirits/
ATTACH;FMTTYPE=image/jpeg:https://sundownmtn.com/wp-content/uploads/2022/12/Bryce_Reeg.jpg
END:VEVENT
BEGIN:VEVENT
DTSTART;TZID=America/Chicago:20221209T160000
DTEND;TZID=America/Chicago:20221209T200000
DTSTAMP:20260419T103210
CREATED:20221205T025305Z
LAST-MODIFIED:20221205T025328Z
UID:17558-1670601600-1670616000@sundownmtn.com
SUMMARY:Midwest Megan & Adam | Tips Up Food & Spirits
DESCRIPTION:Join Midwest Megan and Adam for FREE live music at Tips Up Food & Spirits\, inside the North Lodge\, from 4 PM-8 PM.
URL:https://sundownmtn.com/event/midwest-megan-adam-tips-up-food-spirits/
ATTACH;FMTTYPE=image/jpeg:https://sundownmtn.com/wp-content/uploads/2022/12/Midwest-Megan-and-Adam.jpg
END:VEVENT
END:VCALENDAR