BEGIN:VCALENDAR
VERSION:2.0
PRODID:-//Sundown Mountain Resort - ECPv6.15.20//NONSGML v1.0//EN
CALSCALE:GREGORIAN
METHOD:PUBLISH
X-WR-CALNAME:Sundown Mountain Resort
X-ORIGINAL-URL:https://sundownmtn.com
X-WR-CALDESC:Events for Sundown Mountain Resort
REFRESH-INTERVAL;VALUE=DURATION:PT1H
X-Robots-Tag:noindex
X-PUBLISHED-TTL:PT1H
BEGIN:VTIMEZONE
TZID:America/Chicago
BEGIN:DAYLIGHT
TZOFFSETFROM:-0600
TZOFFSETTO:-0500
TZNAME:CDT
DTSTART:20230312T080000
END:DAYLIGHT
BEGIN:STANDARD
TZOFFSETFROM:-0500
TZOFFSETTO:-0600
TZNAME:CST
DTSTART:20231105T070000
END:STANDARD
BEGIN:DAYLIGHT
TZOFFSETFROM:-0600
TZOFFSETTO:-0500
TZNAME:CDT
DTSTART:20240310T080000
END:DAYLIGHT
BEGIN:STANDARD
TZOFFSETFROM:-0500
TZOFFSETTO:-0600
TZNAME:CST
DTSTART:20241103T070000
END:STANDARD
BEGIN:DAYLIGHT
TZOFFSETFROM:-0600
TZOFFSETTO:-0500
TZNAME:CDT
DTSTART:20250309T080000
END:DAYLIGHT
BEGIN:STANDARD
TZOFFSETFROM:-0500
TZOFFSETTO:-0600
TZNAME:CST
DTSTART:20251102T070000
END:STANDARD
BEGIN:DAYLIGHT
TZOFFSETFROM:-0600
TZOFFSETTO:-0500
TZNAME:CDT
DTSTART:20260308T080000
END:DAYLIGHT
BEGIN:STANDARD
TZOFFSETFROM:-0500
TZOFFSETTO:-0600
TZNAME:CST
DTSTART:20261101T070000
END:STANDARD
END:VTIMEZONE
BEGIN:VEVENT
DTSTART;TZID=America/Chicago:20251201T000000
DTEND;TZID=America/Chicago:20251201T235959
DTSTAMP:20260424T121934
CREATED:20251126T032333Z
LAST-MODIFIED:20251126T040708Z
UID:82148-1764547200-1764633599@sundownmtn.com
SUMMARY:Cyber Monday Gift Card Sale
DESCRIPTION:Don’t Miss Our Cyber Monday Gift Card Sale!\n\n\n\nGet $10 FREE for every $50 in gift cards purchased! No limit on the amount you can buy. \n  \n  \nPURCHASE ONLINE HERE. \n  \n  \nPlease note: a maximum of two gift cards can be used per purchase — if you plan to use them for larger amounts\, buy cards in larger denominations. \n 
URL:https://sundownmtn.com/event/cyber-monday-gift-card-sale-2/
CATEGORIES:Live Music,Offseason Events,RACING,Sasquatch Series,SPECIALS,SUMMER,Winter Events
ATTACH;FMTTYPE=image/jpeg:https://sundownmtn.com/wp-content/uploads/2025/11/Sundown_CyberMonday_GiftcardSale_Social_SQ.jpg
END:VEVENT
BEGIN:VEVENT
DTSTART;TZID=America/Chicago:20251128T100000
DTEND;TZID=America/Chicago:20251128T190000
DTSTAMP:20260424T121934
CREATED:20251126T033106Z
LAST-MODIFIED:20251126T035602Z
UID:82150-1764324000-1764356400@sundownmtn.com
SUMMARY:IT'S A SNOWMAKING PARTY!
DESCRIPTION:Cold temps have finally arrived\, and we’re gearing up to fire up the snow guns! Snowmaking begins tomorrow evening (Wednesday\, 11/26)\, and our mountain crew will be working around the clock as long as conditions stay favorable. \n\n\n\n\n\n  \n  \n\n\n\nWe know everyone is eager for opening-day news — trust us\, we are too! Our official opening date will be announced later this week once we have snowmaking fully underway. We want to be certain before sharing the most exciting update of the season. \n\n\n\n  \n  \n\n\n\n\n\nIn the meantime\, kick off winter with us this Friday at the North Lodge for our Snowmaking Party and Black Friday fun: \n\n\n\n💸 20% OFF all merchandise in the Gift Shop\, plus the first chance to shop new apparel. \n\n\n\n🎁 Great stocking stuffers and unbeatable deals — including Bollé goggles for just $15! \n\n\n\n🍻 Tips Up specials all day — pizza and drink deals during the football games\, and come help us break in our brand-new 75” TVs at the bar. \n\n\n\n  \n  \n\n\n\n\n\nCome watch the snow fly\, warm up in the lodge\, grab some gear\, and celebrate the start of the season. Our opening date announcement is coming very soon — stay tuned\, and we hope to see you on Friday! \n  \n\n\n\n 
URL:https://sundownmtn.com/event/snowmaking-party/
CATEGORIES:Live Music,Offseason Events,RACING,Sasquatch Series,SPECIALS,SUMMER,Winter Events
ATTACH;FMTTYPE=image/jpeg:https://sundownmtn.com/wp-content/uploads/2024/11/File_000-2023_07_06-20_31_44-UTC-scaled.jpeg
END:VEVENT
BEGIN:VEVENT
DTSTART;TZID=America/Chicago:20251109T090000
DTEND;TZID=America/Chicago:20251109T150000
DTSTAMP:20260424T121934
CREATED:20250818T195032Z
LAST-MODIFIED:20251104T232305Z
UID:81349-1762678800-1762700400@sundownmtn.com
SUMMARY:Annual Sundown Ski Swap & Open House
DESCRIPTION:    \n\n\n\n\n\n\n\n\n\nSAVE THE DATE for our Sundown Mountain Open House + Ski/Snowboard Swap 2025! Join us for a fantastic day filled with great deals\, delicious food and live music! \n\n\n\n\n\n \nWELCOME to the 2025 Sundown Ski Patrol Ski/Board Swap \nEvery fall\, the Sundown Ski Patrol holds a fundraiser to help support the patrol. The proceeds from the Annual Swap enable patrollers to further their education and hone their skills in areas such as Outdoor Emergency Care\, skiing\, snowboarding\, and toboggan handling. This is the time for skiers and snowboarders to purchase new and used equipment and to receive incredible deals. The Ski Patrol will help you sell your used ski and/or snowboard equipment for a nominal fee.  \n  \nSWAP SALE:  Sunday\, November 9\, 2025\, 9:00 AM–3:00 PM in the Mountain Center. \n  \nEquipment Check-in (Sell your stuff): \n\nSaturday\, November 8\, 2025\, 8:00 AM-Noon; No Sunday Check-ins\n\n  \nEquipment Check-Out and Customer Pay out: \n\nSunday\, November 9\, 2025\, 3:00-5:00 PM\n\n  \nHow Does it Work? \n  \nAll persons wanting to SELL items at the swap should register BEFORE the SWAP using this LINK: Register Your Inventory/Sign up.  Ski Patrol will PRINT and attach your labels at Check-in. \n  \n\n Dust off those gently used boots\, skis\, snowboards\, helmets\, jackets\, sweaters\, or any snow sports-related items you think someone might want to buy. There are some restrictions on what ski bindings the ski patrol can sell. A list of indemnified bindings will be available at the SWAP check-in counter. Damaged or severely worn items will be refused.\n\n  \n\n Decide on a price you would like to sell your items for; Think low if you want to get rid of your items. Most folks attend a swap to get a good deal. You can check Facebook\, Google\, eBay\, or Poshmark for comparable used items’ prices.\n\n  \n\nEQUIPMENT CHECK-IN (Register Your Inventory/Sign up to sell your items): Drop off items to sell at the Mountain Center on Saturday\, November 8\, 2025\, from 8:00 a.m. to noon; No Sunday check-ins\, please. Ski Patrol charges a $5 handling fee for 1-5 items and $2 for each additional item to be sold; This amount is due when you drop off your item(s). The volunteers at check-in will take your information and enter it into our database if you have not registered your inventory ahead of time (See LINK above). If you have registered your items\, we’ll PRINT your labels\, ATTACH them to your items\, and add your items to our SWAP. You may choose to DONATE your unsold items. \n\n  \n\nEQUIPMENT CHECK-OUT and PAYMENTS: If your item(s) sell\, Ski Patrol writes you a check for the total items sold minus 15% of the sale\, which the Ski Patrol keeps. You will receive a text message when the item(s) sell. Items not sold should be picked up and checked out from 3:00-5:00 PM on Sunday\, November 9\, 2025. Items not picked up by 5:00 PM Sunday will be considered a donation. Sundown Ski Patrol may sell your item(s)\, or dispose of them accordingly\, and retain any and all funds from your item’s sale.\n\n  \n\nI want to sell my items at the SWAP. Now\, what do I do? Click on the LINK in step 3 above to register online BEFORE you bring your items to Check-in. You need to include your phone number and email address; you will be required to VERIFY your email address to continue. Once you’ve verified your account\, you can start entering your items into our database. You can download a copy of your item list; don’t worry about printing your labels or attaching them to your items. SKI PATROL will PRINT your LABELS and ATTACH them to your items when you bring your items to check-in on Saturday\, November 8\, at 8:00 AM-Noon. If your item(s) sell\, you’ll receive a text message; you can pick up your check between 3:00-5:00 pm Sunday\, 11/9\, or checks will be mailed out the week after the swap to the address you entered in your account.\n\n  \nDO NOT CALL Sundown Mountain and ask about your items. The staff of Sundown Mountain DO NOT deal with your items. They are considered the responsibility of the Sundown Ski Patrol. Email Jodie Bramel at sundownskiswap@gmail.com with any questions.  \n \n 
URL:https://sundownmtn.com/event/annual-sundown-ski-swap/
CATEGORIES:Offseason Events,Winter Events
ATTACH;FMTTYPE=image/jpeg:https://sundownmtn.com/wp-content/uploads/2025/11/Sundown_Cover_SkiSwap_BNR_Alt-scaled.jpg
END:VEVENT
BEGIN:VEVENT
DTSTART;TZID=America/Chicago:20251101T170000
DTEND;TZID=America/Chicago:20251101T200000
DTSTAMP:20260424T121934
CREATED:20251006T170423Z
LAST-MODIFIED:20251020T142250Z
UID:81593-1762016400-1762027200@sundownmtn.com
SUMMARY:Sundown Parks' Presents 'Pressure Drop' by Teton Gravity Research
DESCRIPTION:Support the terrain park by joining us in the Mountain Center on November 1st\, for an exclusive viewing – tickets on sale now!  \n\n\n\n  \nTickets are $10 online and $15 at the door.  \n  \n\n\n\nPURCHASE YOUR TICKET ONLINE HERE \n\n\n\n\n\n\n\n\n\n5:00pm | Doors Open5:30pm | Food\, Raffles\, Local Edits\, and 2024-25 Season Terrain Park Season Awards6:30pm | Film Starts \n\n\n\n\n\n\n\n*Bench seating is available but limited. Make yourself cozy! Bring your own lawn chair or blanket to sit on. \n\n\n\n\n\n\n\nSHOWING: Teton Gravity Research’s ‘Pressure Drop.’ Their 30th annual ski and snowboard film. From Norway to Jackson Hole\, Pressure Drop follows the world’s top skiers and snowboarders through deep powder\, huge cliffs\, and iconic lines. Born from a dream and forged on the edge\, this isn’t just our 30th annual film\, it’s a tribute to the fleeting moment when breath slows\, gravity takes over\, and everything else fades.
URL:https://sundownmtn.com/event/sundown-parks-annual-movie-night/
CATEGORIES:Offseason Events,Sasquatch Series,SUMMER,Winter Events
ATTACH;FMTTYPE=image/jpeg:https://sundownmtn.com/wp-content/uploads/2025/10/1200x628-facebook.jpg
END:VEVENT
BEGIN:VEVENT
DTSTART;TZID=America/Chicago:20251011T000000
DTEND;TZID=America/Chicago:20251011T235959
DTSTAMP:20260424T121934
CREATED:20250605T182823Z
LAST-MODIFIED:20250818T193614Z
UID:81178-1760140800-1760227199@sundownmtn.com
SUMMARY:MAYHEM ON THE MOUNTAIN
DESCRIPTION:Formally known as ‘Jeeps on The Mountain’  \n\n\n\n \n  \nJoin us Saturday\, October 11\, 2025\, for Mayhem on the Mountain—a high-energy off-roading event at Sundown Mountain Resort in Dubuque\, Iowa. Designed for off-road enthusiasts of all levels\, MOTM features a full day of trail riding\, rock crawling\, and mud-slinging action across our rugged mountain terrain. \n  \nEnjoy live music\, local food trucks\, and browse the latest gear from off-road vendors. Make it a weekend by reserving a primitive camping spot and spending Friday night under the stars\, sharing stories around the campfire. Whether you’re behind the wheel or just along for the ride\, MOTM is the ultimate off-road gathering in Eastern Iowa—don’t miss your chance to be part of the mayhem! \n  \n\n\n\n \n\n\n\nPURCHASE YOUR PASSES HERE! \nLearn more about MOTM
URL:https://sundownmtn.com/event/motm/
CATEGORIES:Offseason Events,SUMMER,Winter Events
ATTACH;FMTTYPE=image/png:https://sundownmtn.com/wp-content/uploads/2025/06/Screenshot-2025-06-05-at-1.01.48 PM.png
END:VEVENT
BEGIN:VEVENT
DTSTART;TZID=America/Chicago:20241110T090000
DTEND;TZID=America/Chicago:20241110T150000
DTSTAMP:20260424T121934
CREATED:20230628T195745Z
LAST-MODIFIED:20241106T230003Z
UID:19373-1731229200-1731250800@sundownmtn.com
SUMMARY:Sundown Mountain Open House + Ski/Snowboard Swap 2024
DESCRIPTION:SAVE THE DATE for our Sundown Mountain Open House + Ski/Snowboard Swap 2024! Join us for a fantastic day filled with great deals\, Chairlift Rides\, delicious food from Grillbilly’s BBQ\, and live music from Casey Klein from 11 AM to 3 PM! \n\n\n\nDon’t miss our swap meet\, where you can buy and sell gently used ski equipment from 9 AM to 3 PM. Make plans to join us as we gear up for another incredible season on the slopes\, creating generations of memories. We can’t wait to see you there!  \n\n\n\n  \n Join Us for the Annual Ski/Snowboard Swap to Support the Sundown Ski Patrol! \n\n\n\nEvery fall\, the Sundown Ski Patrol hosts a fundraiser to support our dedicated patrol team. All proceeds from the annual Ski/Snowboard Swap directly benefit the Sundown Ski Patrol\, helping to fund ongoing Outdoor Emergency Care training and education. \n\n\n\nBring your gently used gear to sell and discover great deals on new or used equipment! You’ll find a wide selection of boots\, skis\, snowboards\, helmets\, poles\, clothing\, gloves\, and more. Please note that some restrictions apply to the types of ski/snowboard boots and bindings we can sell\, so be sure to check the list of indemnified bindings available at the swap check-in counter. \n\n\n\nEquipment Check-In (Sell Your Stuff):Date: Saturday\, November 9thTime: 8:00 – 11:00 AMPlease\, no Sunday check-ins. \n\n\n\nNEW THIS YEAR: To speed up the check-in process\, we now have a form you can fill out in advance! Complete the form digitally or manually\, and bring your printed\, completed form to the check-in. \n\n\n\nDon’t miss this chance to upgrade your gear while supporting a great cause! \n\n\n\n\n\n\nCLICK HERE TO DOWNLOAD EQUIPMENT CHECK-IN FORM\n\n\n\n\n \n\n\n\nSki/Snowboard Swap Details: Supporting the Sundown Ski Patrol! \n\n\n\nThe Sundown Ski Patrol charges a $5.00 handling fee for selling 1-5 items\, and just $2.00 for each additional item beyond that. This fee is due at the time of drop-off. If your items sell\, you’ll receive a check for the total amount minus a 15% commission that the Ski Patrol retains. \n\n\n\nImportant Dates: \n\n\n\n\nSwap Sale: Sunday\, November 10th\, from 9:00 AM – 3:00 PM\n\n\n\nEquipment Check-Out/Pick-Up: Sunday\, November 10th\, from 3:00 – 5:00 PM\n\n\n\n\nPlease Note: Any equipment not picked up by 5:00 PM on November 10th will be considered a donation. The Ski Patrol may sell or dispose of unclaimed items and will retain all funds from their sale. \n\n\n\nImportant Reminder: Please do not call Sundown Mountain regarding your items. The staff does not handle your gear; it remains the responsibility of the Sundown Ski Patrol. If you have questions or concerns\, please reach out via email at brameljodie@gmail.com. \n\n\n\nGet ready to upgrade your gear while supporting a great cause!
URL:https://sundownmtn.com/event/sundown-mountain-open-house-ski-snowboard-swap-2023/
CATEGORIES:Offseason Events,Winter Events
ATTACH;FMTTYPE=image/jpeg:https://sundownmtn.com/wp-content/uploads/2018/08/Open-House-and-Ski-Swap_2021_sq-1.jpg
END:VEVENT
BEGIN:VEVENT
DTSTART;TZID=America/Chicago:20241107T180000
DTEND;TZID=America/Chicago:20241107T193000
DTSTAMP:20260424T121934
CREATED:20230721T211336Z
LAST-MODIFIED:20241022T212045Z
UID:19436-1731002400-1731007800@sundownmtn.com
SUMMARY:Sundown Mountain Movie Night at AMC Theatre Presented by Sundown Parks: BEYOND THE FANTASY
DESCRIPTION:November 7th\, 6:00 PM | AMC Theatres \n\n\n\n\n\n\n\nSundown Parks’ is excited to partner with AMC Theatres to bring you Teton Gravity Research’s latest action-packed ski and snowboard film: Beyond the Fantasy. \n\n\n\n“Beyond the Fantasy” is more than just a film; it’s a testament to the power of turning dreams into reality. Witness our athletes as they transform improbable mental images into breathtaking feats of athleticism and creativity. From the world’s most stunning mountain landscapes to the joyous absurdities that make riding on snow a way of life\, this film is a celebration of the unbreakable bond that unites our community. \n\n\n\nBeyond the Fantasy is not rated. The film is suitable for all ages. \n\n\n\nCOST: Online Presale (NOW-November 6th at sundownmtn.com ONLY) | $15 At The Door | $20 \n\n\n\nNo refunds or exchanges will be issued for purchased tickets. \n\n\n\nAll proceeds will benefit improvements to the Sundown Parks’ Terrain Parks. \n\n\n\n\nCLICK HERE TO PURCHASE
URL:https://sundownmtn.com/event/sundown-mountain-movie-night/
CATEGORIES:Offseason Events,Winter Events
ATTACH;FMTTYPE=image/jpeg:https://sundownmtn.com/wp-content/uploads/2023/07/24_TGR_BeyondTheFantasy_1600x1000.jpg
END:VEVENT
BEGIN:VEVENT
DTSTART;TZID=America/Chicago:20241026T100000
DTEND;TZID=America/Chicago:20241026T140000
DTSTAMP:20260424T121934
CREATED:20210812T022134Z
LAST-MODIFIED:20241022T210618Z
UID:10461-1729936800-1729951200@sundownmtn.com
SUMMARY:Sundown  Mountain Resort Job Fair\, 2024-2025 Season
DESCRIPTION:Are you ready to jump into an exciting new opportunity? Do you love working with the public\, picking up new skills\, and dreaming of summers off? Then look no further! Join us on Saturday\, October 28\, from 10 AM to 2 PM for our annual Sundown Mountain Resort Job Fair! \n\n\n\nThis is your chance to shine and interview on the spot for a variety of positions across multiple departments for the 2024-2025 season! Don’t miss out on the opportunity to become part of our vibrant team and make unforgettable memories in the beautiful outdoors! We can’t wait to meet you! \n  \n\n\n\nWhy Work at a Sundown Mountain Resort: \n\n\n\n– Flexible schedule– Short term commitment over the winter– Indoor and outdoor positions– Fun work environment– Eligible employees receive skiing/snowboarding passes* and free rental equipment– Gift shop and food discounts– Hiring ages 14 and up \n\n\n\n* If you already bought a season pass\, it will be refunded. \n\n\n\n\nClick Here for Current Job Openings
URL:https://sundownmtn.com/event/job-fair-2/
CATEGORIES:Offseason Events,Winter Events
ATTACH;FMTTYPE=image/jpeg:https://sundownmtn.com/wp-content/uploads/2024/10/Sundown_Web_Banners_JobFair4.jpg
END:VEVENT
BEGIN:VEVENT
DTSTART;TZID=America/Chicago:20241012T090000
DTEND;TZID=America/Chicago:20241012T190000
DTSTAMP:20260424T121934
CREATED:20231103T212805Z
LAST-MODIFIED:20240924T200906Z
UID:73094-1728723600-1728759600@sundownmtn.com
SUMMARY:Jeeps On The Mountain 2024
DESCRIPTION:Jeeps On The Mountain\, Advance Creek CrossingJeeps On The Mountain\, Trailside CampingJeeps On The Mountain\, Trailside CampingJeeps On The Mountain\, Mud PitJeeps On The Mountain\, On The HillVendor Area & Jeep ShowJeeps On The Mountain\, Creek CrossingJeeps On The MountainJeeps On The MountainJeeps On The MountainTrail and Obstacle Map\n\n\n\nSAVE THE DATE! The fourth annual Jeeps On the Mountain is back October 12th\, 2024 \n\n\n\n\nA wide variety of terrain is available- from very easy to very challenging. Offroad access begins at 9:00 AM.\n\n\n\n4X4 vehicles\, Side-by-sides\, ATV’s are welcome. (Must have 4 wheels)\n\n\n\n3 food trucks will be serving up delicious food (Pulitos Tacos\, Buenie Bottoms and Moski’s BBQ)\n\n\n\n Live Music from Tough Cookie starts at noon. \n\n\n\nPrimitive camping is available for Friday night. ($15.00/site)\n\n\n\nTickets for trail passes and passengers are available on our website\, or can be purchased in person on the day of the event.\n\n\n\nCost of Trail Pass (Includes driver) is $40.00. Each Additional passenger is $10.00\n\n\n\n7:30 Biscuits and Gravy breakfast (Benefits go the the Vets.)\n\n\n\n\nClick here to purchase your tickets. \n\n\n\nBe sure to check out our Facebook page as well for announcements. \n\n\n\nFacebook\n\nInstagram\n\n\n\nhttps://www.facebook.com/jeepsonthemountainatsundownmountain/
URL:https://sundownmtn.com/event/jeeps-on-the-mountain-2024/
CATEGORIES:Offseason Events
ATTACH;FMTTYPE=image/jpeg:https://sundownmtn.com/wp-content/uploads/2023/05/JOTM_Log_Update2023-01-scaled.jpg
END:VEVENT
BEGIN:VEVENT
DTSTART;TZID=America/Chicago:20240809T120000
DTEND;TZID=America/Chicago:20240810T170000
DTSTAMP:20260424T121934
CREATED:20231108T035314Z
LAST-MODIFIED:20240515T164500Z
UID:73438-1723204800-1723309200@sundownmtn.com
SUMMARY:Bownanza On The Mountain 2024\, Sponsored by Gator Outdoors
DESCRIPTION:Bownanza On The Mountain is BACK at Sundown Mountain Resort\, August 9th-10th\, 2024! Enjoy our on-the-mountain archery courses\, with 40+ 3D targets\, camping\, vendors\, food\, a kids’ archery area\, and more! More details to come on this. \n\n\n\nPURCHASE YOUR TICKETS HERE\n\n\n\nAdmission includes both daysNon-shooter Admission: FREEShooter Admission\, 12 & Under | FREEShooter Admission\, Child 13-18:  $35  / ON SALE FOR $25 from May 11th – 18thShooter Admission Adult\, 19 and older:  $45  / ON SALE FOR $35 from May 11th – 18th \n\n\n\nPrimitive Camping/Site (Available Friday and Saturday ONLY)$15/Night or $30/Weekend per Tent/RV \n\n\n\nMore details are to be released as they become available on this page.Includes chairlift rides\, vendor area\, music\, kids’ activities\, and more. \n\n\n\nAdmission can be purchased at the gate the day of the event! \n\n\n\n*Limited Trailside Camping is available at the base of our hill for camping (one vehicle/one tent). We will have a separate designated campsite at the top of the hill for RV campers in our Easy Access Camping Area. Primitive camping sites only. We do not have hookups for water or electricity or onsite shower facilities. For a list of lodging properties\, including campsites with these amenities\, please click HERE. \n\n\n\nInterested in becoming a vendor?\n\n\n\nCLICK HERE to fill out a vendor application and learn more! We also have sponsorship opportunities available. Please CLICK HERE to learn more. \n\n\n\n\n\n\n\nFAQ\n\n\n\nCamping & Property Policies\n\n\n\nAre carry-ins allowed? \n\n\n\nCarry-ins aren’t allowed on the course. Coolers are permitted in the camping area only. \n\n\n\nAre ATVs allowed? \n\n\n\nATVs are NOT allowed on the course. Only individuals who are camping (pay for a camping pass) may use an ATV on the designated trail to get up and down the hillside to and from their campsite. \n\n\n\nCan I drive my vehicle to our campsite? \n\n\n\nTrailside primitive camping can be accessed only by vehicles with four-wheel drive. We do have a designated campsite for RVs in our South Lot. \n\n\n\nDo you offer full hook-up RV sites? \n\n\n\nUnfortunately\, we offer only boondocking camping (no water\, sewer or electrical connections). We will have porta potties available in the RV parking area. Please CLICK HERE to see a list of RV Parks available in the area with these amenities. \n\n\n\nAre campfires allowed in the camping areas? \n\n\n\nYes\, fires are allowed in fire rings and grills only. Fire rings must be elevated. We do not supply fire rings\, grills\, or firewood. We will have firewood available for purchase at our community campfire in the camping area. Do not leave fires unattended\, and put out all fires before leaving. \n\n\n\nAre there off-site lodging options? \n\n\n\nPlease CLICK HERE to see a list of lodges available in the area. \n\n\n\nAre dogs allowed at this event? \n\n\n\nYes\, this is a dog-friendly event\, though they NOT allowed on the 3D course or in the lodges. All dogs must be on a leash\, and any dog displaying aggressive behavior will need to leave the property. Dog owners are also responsible for cleaning up after their pets. \n\n\n\nCourses & Competition\n\n\n\nWhat kind of scoring will be used at this event? \n\n\n\nBownanza On The Mountain will be using the IBO scoring format at known yardage. The scoring rings are worth 11\, 10\, 8\, and 5 points. The smallest center circle is worth 11 points. The next largest ring is 10 points. The biggest scoring ring is 8 points. Arrows hitting the target anywhere outside the 8-ring score of 5 points. If you miss the target you score 0 points. \n\n\n\nAre rangefinders allowed on the course? \n\n\n\nYes\, rangefinders are allowed to be used on the course. \n\n\n\n*Some exclusions apply. More details to come. \n\n\n\nPlease watch this page and our social media pages for updates as they become available. 
URL:https://sundownmtn.com/event/bownanza-on-the-mountain-2024-sponsored-by-gator-outdoors/
CATEGORIES:Offseason Events
ATTACH;FMTTYPE=image/jpeg:https://sundownmtn.com/wp-content/uploads/2022/10/BOTM_Sq_2022.jpg
END:VEVENT
END:VCALENDAR