BEGIN:VCALENDAR
VERSION:2.0
PRODID:-//Sundown Mountain Resort - ECPv6.15.20//NONSGML v1.0//EN
CALSCALE:GREGORIAN
METHOD:PUBLISH
X-ORIGINAL-URL:https://sundownmtn.com
X-WR-CALDESC:Events for Sundown Mountain Resort
REFRESH-INTERVAL;VALUE=DURATION:PT1H
X-Robots-Tag:noindex
X-PUBLISHED-TTL:PT1H
BEGIN:VTIMEZONE
TZID:America/Chicago
BEGIN:DAYLIGHT
TZOFFSETFROM:-0600
TZOFFSETTO:-0500
TZNAME:CDT
DTSTART:20250309T080000
END:DAYLIGHT
BEGIN:STANDARD
TZOFFSETFROM:-0500
TZOFFSETTO:-0600
TZNAME:CST
DTSTART:20251102T070000
END:STANDARD
BEGIN:DAYLIGHT
TZOFFSETFROM:-0600
TZOFFSETTO:-0500
TZNAME:CDT
DTSTART:20260308T080000
END:DAYLIGHT
BEGIN:STANDARD
TZOFFSETFROM:-0500
TZOFFSETTO:-0600
TZNAME:CST
DTSTART:20261101T070000
END:STANDARD
BEGIN:DAYLIGHT
TZOFFSETFROM:-0600
TZOFFSETTO:-0500
TZNAME:CDT
DTSTART:20270314T080000
END:DAYLIGHT
BEGIN:STANDARD
TZOFFSETFROM:-0500
TZOFFSETTO:-0600
TZNAME:CST
DTSTART:20271107T070000
END:STANDARD
END:VTIMEZONE
BEGIN:VEVENT
DTSTART;TZID=America/Chicago:20260109T100000
DTEND;TZID=America/Chicago:20260109T230000
DTSTAMP:20260422T091636
CREATED:20260130T070743Z
LAST-MODIFIED:20260130T070745Z
UID:83421-1767952800-1767999600@sundownmtn.com
SUMMARY:Fabulous Fridays
DESCRIPTION:Kick off the weekend at Sundown with Fabulous Fridays — extended hours\, evening turns\, and a laid-back mountain vibe. We’re open 10AM–11PM\, so whether you’re here all day or just sneaking in laps after work\, school\, or the drive\, it’s easy to make it happen. Discounted After 4PM lift tickets keep the fun affordable\, and live music at Tips Up sets the tone for a perfect Friday night on the mountain.
URL:https://sundownmtn.com/event/fabulous-fridays-6/
CATEGORIES:SPECIALS,Winter Events
ATTACH;FMTTYPE=image/jpeg:https://sundownmtn.com/wp-content/uploads/2026/01/IMG_7312.jpg
END:VEVENT
BEGIN:VEVENT
DTSTART;TZID=America/Chicago:20260109T160000
DTEND;TZID=America/Chicago:20260109T200000
DTSTAMP:20260422T091636
CREATED:20260109T164924Z
LAST-MODIFIED:20260109T164930Z
UID:83099-1767974400-1767988800@sundownmtn.com
SUMMARY:🎶 Kris Karr at Tips Up Bar + Grill 
DESCRIPTION:Join us at Sundown Mountain Resort this season for live performances every Friday\, Saturday\, and Sunday\, featuring talented local and regional musicians. Relax by the fire\, sip on your delicious drinks\, enjoy your favorite food\, and soak in the lively atmosphere and beautiful view of the North Lodge.
URL:https://sundownmtn.com/event/%f0%9f%8e%b6-kris-karr-at-tips-up-bar-grill-2/
CATEGORIES:Live Music,Winter Events
ATTACH;FMTTYPE=image/jpeg:https://sundownmtn.com/wp-content/uploads/2026/01/12-31-25-music-12.jpg
END:VEVENT
END:VCALENDAR