BEGIN:VCALENDAR
VERSION:2.0
PRODID:-//Sundown Mountain Resort - ECPv6.15.20//NONSGML v1.0//EN
CALSCALE:GREGORIAN
METHOD:PUBLISH
X-WR-CALNAME:Sundown Mountain Resort
X-ORIGINAL-URL:https://sundownmtn.com
X-WR-CALDESC:Events for Sundown Mountain Resort
REFRESH-INTERVAL;VALUE=DURATION:PT1H
X-Robots-Tag:noindex
X-PUBLISHED-TTL:PT1H
BEGIN:VTIMEZONE
TZID:America/Chicago
BEGIN:DAYLIGHT
TZOFFSETFROM:-0600
TZOFFSETTO:-0500
TZNAME:CDT
DTSTART:20240310T080000
END:DAYLIGHT
BEGIN:STANDARD
TZOFFSETFROM:-0500
TZOFFSETTO:-0600
TZNAME:CST
DTSTART:20241103T070000
END:STANDARD
BEGIN:DAYLIGHT
TZOFFSETFROM:-0600
TZOFFSETTO:-0500
TZNAME:CDT
DTSTART:20250309T080000
END:DAYLIGHT
BEGIN:STANDARD
TZOFFSETFROM:-0500
TZOFFSETTO:-0600
TZNAME:CST
DTSTART:20251102T070000
END:STANDARD
BEGIN:DAYLIGHT
TZOFFSETFROM:-0600
TZOFFSETTO:-0500
TZNAME:CDT
DTSTART:20260308T080000
END:DAYLIGHT
BEGIN:STANDARD
TZOFFSETFROM:-0500
TZOFFSETTO:-0600
TZNAME:CST
DTSTART:20261101T070000
END:STANDARD
END:VTIMEZONE
BEGIN:VEVENT
DTSTART;TZID=America/Chicago:20251221T080000
DTEND;TZID=America/Chicago:20251221T140000
DTSTAMP:20260422T061235
CREATED:20251215T205707Z
LAST-MODIFIED:20251215T210346Z
UID:82493-1766304000-1766325600@sundownmtn.com
SUMMARY:Santa & Friends on the Slopes
DESCRIPTION:SANTA & FRIENDS ON THE SLOPES RETURNS!!!This Sunday\, December 21 at Sundown Mountain Resort\, we’re going all out! \n\n\n\n\n\n\n\n\n\n\n\n\n\nFREE lift tickets for the first 100 fully costumed participants$300 Gift Card – Grand Prize for Overall Crowd Favorite$100 Gift Cards – Best in each costume category \n\n\n\n\n\n\n\nTo qualify for free lift tickets\, participants must be fully dressed in costume. \n\n\n\nOnline registration is encouraged.Photo check-in begins at 8 AM upstairs in the Mountain Center.Voting will be held online from 11AM – 1PM. \n  \n\n\n\nGet creative\, dress festive\, and celebrate the holiday season on the slopes!  \n\n\n\n\n\n\n\n\n\nCLICK HERE FOR FULL CONTEST DETAILS\, RULES\, & ONLINE REGISTRATION. \n\n\n\n  \n 
URL:https://sundownmtn.com/event/santa/
CATEGORIES:Winter Events
ATTACH;FMTTYPE=image/jpeg:https://sundownmtn.com/wp-content/uploads/2025/12/SantaHeader-full-scaled.jpg
END:VEVENT
BEGIN:VEVENT
DTSTART;TZID=America/Chicago:20251221T130000
DTEND;TZID=America/Chicago:20251221T170000
DTSTAMP:20260422T061235
CREATED:20251216T164902Z
LAST-MODIFIED:20251218T175620Z
UID:82529-1766322000-1766336400@sundownmtn.com
SUMMARY:Barefoot & Sunshine on the Sundown Stage
DESCRIPTION:Barefoot & Sunshine return to the Sundown Stage! Come on out and enjoy the slopes and listen to some good tunes at Tips Up.
URL:https://sundownmtn.com/event/barefoot-sunshine-on-the-sundown-stage/
CATEGORIES:Live Music,Winter Events
ATTACH;FMTTYPE=image/jpeg:https://sundownmtn.com/wp-content/uploads/2025/12/12.11_TV4.jpg
END:VEVENT
END:VCALENDAR