BEGIN:VCALENDAR
VERSION:2.0
PRODID:-//Sundown Mountain Resort - ECPv6.15.20//NONSGML v1.0//EN
CALSCALE:GREGORIAN
METHOD:PUBLISH
X-ORIGINAL-URL:https://sundownmtn.com
X-WR-CALDESC:Events for Sundown Mountain Resort
REFRESH-INTERVAL;VALUE=DURATION:PT1H
X-Robots-Tag:noindex
X-PUBLISHED-TTL:PT1H
BEGIN:VTIMEZONE
TZID:America/Chicago
BEGIN:DAYLIGHT
TZOFFSETFROM:-0600
TZOFFSETTO:-0500
TZNAME:CDT
DTSTART:20240310T080000
END:DAYLIGHT
BEGIN:STANDARD
TZOFFSETFROM:-0500
TZOFFSETTO:-0600
TZNAME:CST
DTSTART:20241103T070000
END:STANDARD
BEGIN:DAYLIGHT
TZOFFSETFROM:-0600
TZOFFSETTO:-0500
TZNAME:CDT
DTSTART:20250309T080000
END:DAYLIGHT
BEGIN:STANDARD
TZOFFSETFROM:-0500
TZOFFSETTO:-0600
TZNAME:CST
DTSTART:20251102T070000
END:STANDARD
BEGIN:DAYLIGHT
TZOFFSETFROM:-0600
TZOFFSETTO:-0500
TZNAME:CDT
DTSTART:20260308T080000
END:DAYLIGHT
BEGIN:STANDARD
TZOFFSETFROM:-0500
TZOFFSETTO:-0600
TZNAME:CST
DTSTART:20261101T070000
END:STANDARD
END:VTIMEZONE
BEGIN:VEVENT
DTSTART;TZID=America/Chicago:20250223T130000
DTEND;TZID=America/Chicago:20250223T170000
DTSTAMP:20260422T092222
CREATED:20250120T214547Z
LAST-MODIFIED:20250120T215454Z
UID:80546-1740315600-1740330000@sundownmtn.com
SUMMARY:🎶 Laura McDonald & Marcus DeJesus at Tips Up Bar + Grill 
DESCRIPTION:Join us at Sundown Mountain Resort this season for an incredible weekend music series! Enjoy live performances every Friday\, Saturday\, and Sunday\, featuring talented local and regional musicians. Relax by the fire\, sip on your delicious drinks\, enjoy your favorite food\, and soak in the lively atmosphere and beautiful view of the North Lodge.Learn more about Laura McDonald Here!
URL:https://sundownmtn.com/event/%f0%9f%8e%b6-laura-mcdonald-marcus-dejesus-at-tips-up-bar-grill/
CATEGORIES:Live Music,Winter Events
ATTACH;FMTTYPE=image/jpeg:https://sundownmtn.com/wp-content/uploads/2025/01/Laura-McDonald-.jpg
END:VEVENT
END:VCALENDAR