BEGIN:VCALENDAR
VERSION:2.0
PRODID:-//Sundown Mountain Resort - ECPv6.15.20//NONSGML v1.0//EN
CALSCALE:GREGORIAN
METHOD:PUBLISH
X-ORIGINAL-URL:https://sundownmtn.com
X-WR-CALDESC:Events for Sundown Mountain Resort
REFRESH-INTERVAL;VALUE=DURATION:PT1H
X-Robots-Tag:noindex
X-PUBLISHED-TTL:PT1H
BEGIN:VTIMEZONE
TZID:America/Chicago
BEGIN:DAYLIGHT
TZOFFSETFROM:-0600
TZOFFSETTO:-0500
TZNAME:CDT
DTSTART:20240310T080000
END:DAYLIGHT
BEGIN:STANDARD
TZOFFSETFROM:-0500
TZOFFSETTO:-0600
TZNAME:CST
DTSTART:20241103T070000
END:STANDARD
BEGIN:DAYLIGHT
TZOFFSETFROM:-0600
TZOFFSETTO:-0500
TZNAME:CDT
DTSTART:20250309T080000
END:DAYLIGHT
BEGIN:STANDARD
TZOFFSETFROM:-0500
TZOFFSETTO:-0600
TZNAME:CST
DTSTART:20251102T070000
END:STANDARD
BEGIN:DAYLIGHT
TZOFFSETFROM:-0600
TZOFFSETTO:-0500
TZNAME:CDT
DTSTART:20260308T080000
END:DAYLIGHT
BEGIN:STANDARD
TZOFFSETFROM:-0500
TZOFFSETTO:-0600
TZNAME:CST
DTSTART:20261101T070000
END:STANDARD
END:VTIMEZONE
BEGIN:VEVENT
DTSTART;TZID=America/Chicago:20250208T130000
DTEND;TZID=America/Chicago:20250208T160000
DTSTAMP:20260424T043339
CREATED:20250120T221929Z
LAST-MODIFIED:20250120T221930Z
UID:80558-1739019600-1739030400@sundownmtn.com
SUMMARY:South Park Slopestyle  |  2025 Sasquatch Series
DESCRIPTION:
URL:https://sundownmtn.com/event/south-park-slopestyle-2025-sasquatch-series/
CATEGORIES:Sasquatch Series,Winter Events
ATTACH;FMTTYPE=image/png:https://sundownmtn.com/wp-content/uploads/2022/11/Sundown_Parks_Logo_Vector_three_color_white_background-01.png
END:VEVENT
BEGIN:VEVENT
DTSTART;TZID=America/Chicago:20250208T160000
DTEND;TZID=America/Chicago:20250208T190000
DTSTAMP:20260424T043339
CREATED:20250120T212503Z
LAST-MODIFIED:20250120T215620Z
UID:80532-1739030400-1739041200@sundownmtn.com
SUMMARY:🎶 Jimmy Welty Band at Tips Up Bar + Grill
DESCRIPTION:Join us at Sundown Mountain Resort this season for an incredible weekend music series! Enjoy live performances every Friday\, Saturday\, and Sunday\, featuring talented local and regional musicians. Relax by the fire\, sip on your delicious drinks\, enjoy your favorite food\, and soak in the lively atmosphere and beautiful view of the North Lodge.Learn more about the Jimmy Walty Band Here!
URL:https://sundownmtn.com/event/%f0%9f%8e%b6-jimmy-walty-band-at-tips-up/
CATEGORIES:Live Music,Winter Events
ATTACH;FMTTYPE=image/png:https://sundownmtn.com/wp-content/uploads/2025/01/JimmyWeltyBand-.png
END:VEVENT
END:VCALENDAR